Package: wiggleplotr Version: 1.18.0 Command: rm -rf wiggleplotr.buildbin-libdir && mkdir wiggleplotr.buildbin-libdir && C:\Users\biocbuild\bbs-3.14-bioc\R\bin\R.exe CMD INSTALL --merge-multiarch --build --library=wiggleplotr.buildbin-libdir wiggleplotr_1.18.0.tar.gz StartedAt: 2022-04-13 07:20:01 -0400 (Wed, 13 Apr 2022) EndedAt: 2022-04-13 07:20:14 -0400 (Wed, 13 Apr 2022) EllapsedTime: 12.8 seconds RetCode: 0 Status: OK PackageFile: wiggleplotr_1.18.0.zip PackageFileSize: 244.8 KiB