Package: topdownr Version: 1.16.0 Command: C:\cygwin\bin\curl.exe -O http://155.52.207.166/BBS/3.14/bioc/src/contrib/topdownr_1.16.0.tar.gz && rm -rf topdownr.buildbin-libdir && mkdir topdownr.buildbin-libdir && C:\Users\biocbuild\bbs-3.14-bioc\R\bin\R.exe CMD INSTALL --merge-multiarch --build --library=topdownr.buildbin-libdir topdownr_1.16.0.tar.gz && C:\Users\biocbuild\bbs-3.14-bioc\R\bin\R.exe CMD INSTALL topdownr_1.16.0.zip && rm topdownr_1.16.0.tar.gz topdownr_1.16.0.zip StartedAt: 2022-04-12 05:09:23 -0400 (Tue, 12 Apr 2022) EndedAt: 2022-04-12 05:11:27 -0400 (Tue, 12 Apr 2022) EllapsedTime: 124.0 seconds RetCode: 0 Status: OK