Package: topdownr Version: 1.16.0 Command: chmod a+r topdownr -R && C:\Users\biocbuild\bbs-3.14-bioc\R\bin\R.exe CMD build --keep-empty-dirs --no-resave-data topdownr StartedAt: 2022-04-12 14:57:19 -0400 (Tue, 12 Apr 2022) EndedAt: 2022-04-12 14:58:58 -0400 (Tue, 12 Apr 2022) EllapsedTime: 98.3 seconds RetCode: 0 Status: OK PackageFile: topdownr_1.16.0.tar.gz PackageFileSize: 1.243 MiB