Package: rpx Version: 2.2.2 Command: /Library/Frameworks/R.framework/Resources/bin/R CMD build --keep-empty-dirs --no-resave-data rpx StartedAt: 2022-04-12 08:32:16 -0400 (Tue, 12 Apr 2022) EndedAt: 2022-04-12 08:32:44 -0400 (Tue, 12 Apr 2022) EllapsedTime: 28.2 seconds RetCode: 0 Status: OK PackageFile: rpx_2.2.2.tar.gz PackageFileSize: 292.9 KiB