Package: qcmetrics Version: 1.32.0 Command: /Library/Frameworks/R.framework/Resources/bin/R CMD check --install=check:qcmetrics.install-out.txt --library=/Library/Frameworks/R.framework/Resources/library --no-vignettes --timings qcmetrics_1.32.0.tar.gz StartedAt: 2022-04-12 17:10:06 -0400 (Tue, 12 Apr 2022) EndedAt: 2022-04-12 17:11:36 -0400 (Tue, 12 Apr 2022) EllapsedTime: 90.5 seconds RetCode: 0 Status: OK CheckDir: qcmetrics.Rcheck Warnings: 0