Package: pqsfinder Version: 2.10.1 Command: /Library/Frameworks/R.framework/Resources/bin/R CMD check --install=check:pqsfinder.install-out.txt --library=/Library/Frameworks/R.framework/Resources/library --no-vignettes --timings pqsfinder_2.10.1.tar.gz StartedAt: 2022-04-12 16:55:23 -0400 (Tue, 12 Apr 2022) EndedAt: 2022-04-12 16:59:45 -0400 (Tue, 12 Apr 2022) EllapsedTime: 262.5 seconds RetCode: 0 Status: OK CheckDir: pqsfinder.Rcheck Warnings: 0