Package: pengls Version: 1.0.0 Command: chmod a+r pengls -R && C:\Users\biocbuild\bbs-3.14-bioc\R\bin\R.exe CMD build --keep-empty-dirs --no-resave-data pengls StartedAt: 2022-04-12 13:00:06 -0400 (Tue, 12 Apr 2022) EndedAt: 2022-04-12 13:01:39 -0400 (Tue, 12 Apr 2022) EllapsedTime: 93.6 seconds RetCode: 0 Status: OK PackageFile: pengls_1.0.0.tar.gz PackageFileSize: 23.53 KiB