Package: oppar Version: 1.22.0 Command: C:\Users\biocbuild\bbs-3.14-bioc\R\bin\R.exe CMD check --force-multiarch --install=check:oppar.install-out.txt --library=C:\Users\biocbuild\bbs-3.14-bioc\R\library --no-vignettes --timings oppar_1.22.0.tar.gz StartedAt: 2022-04-13 00:02:54 -0400 (Wed, 13 Apr 2022) EndedAt: 2022-04-13 00:09:29 -0400 (Wed, 13 Apr 2022) EllapsedTime: 394.8 seconds RetCode: 0 Status: WARNINGS CheckDir: oppar.Rcheck Warnings: 1