Package: multiMiR Version: 1.16.0 Command: rm -rf multiMiR.buildbin-libdir && mkdir multiMiR.buildbin-libdir && C:\Users\biocbuild\bbs-3.14-bioc\R\bin\R.exe CMD INSTALL --merge-multiarch --build --library=multiMiR.buildbin-libdir multiMiR_1.16.0.tar.gz StartedAt: 2022-04-13 06:40:46 -0400 (Wed, 13 Apr 2022) EndedAt: 2022-04-13 06:41:20 -0400 (Wed, 13 Apr 2022) EllapsedTime: 34.6 seconds RetCode: 0 Status: OK PackageFile: multiMiR_1.16.0.zip PackageFileSize: 675.1 KiB