Package: msa Version: 1.26.0 Command: /Library/Frameworks/R.framework/Resources/bin/R CMD INSTALL msa StartedAt: 2022-04-12 03:22:12 -0400 (Tue, 12 Apr 2022) EndedAt: 2022-04-12 03:32:10 -0400 (Tue, 12 Apr 2022) EllapsedTime: 598.0 seconds RetCode: 0 Status: OK