Package: mia Version: 1.2.7 Command: /home/biocbuild/bbs-3.14-bioc/R/bin/R CMD build --keep-empty-dirs --no-resave-data mia StartedAt: 2022-04-12 05:00:59 -0400 (Tue, 12 Apr 2022) EndedAt: 2022-04-12 05:02:25 -0400 (Tue, 12 Apr 2022) EllapsedTime: 85.7 seconds RetCode: 0 Status: OK PackageFile: mia_1.2.7.tar.gz PackageFileSize: 1.792 MiB