git_url: https://git.bioconductor.org/packages/lfa git_branch: RELEASE_3_14 git_last_commit: 252f54c git_last_commit_date: 2021-10-26 12:23:00 -0400 (Tue, 26 Oct 2021) Package: lfa Version: 1.24.0 Maintainer: Wei Hao , John D. Storey MaintainerEmail: jstorey at princeton.edu