Package: iCOBRA Version: 1.22.2 Command: rm -rf iCOBRA.buildbin-libdir && mkdir iCOBRA.buildbin-libdir && /Users/biocbuild/BBS/utils/build-universal.sh iCOBRA_1.22.2.tar.gz /Library/Frameworks/R.framework/Resources/bin/R iCOBRA.buildbin-libdir StartedAt: 2022-04-12 20:53:13 -0400 (Tue, 12 Apr 2022) EndedAt: 2022-04-12 20:53:38 -0400 (Tue, 12 Apr 2022) EllapsedTime: 25.0 seconds RetCode: 0 Status: OK PackageFile: iCOBRA_1.22.2.tgz PackageFileSize: 2.811 MiB