Package: hca Version: 1.2.3 Command: chmod a+r hca -R && C:\Users\biocbuild\bbs-3.14-bioc\R\bin\R.exe CMD build --keep-empty-dirs --no-resave-data hca StartedAt: 2022-04-12 11:16:47 -0400 (Tue, 12 Apr 2022) EndedAt: 2022-04-12 11:21:40 -0400 (Tue, 12 Apr 2022) EllapsedTime: 293.6 seconds RetCode: 0 Status: OK PackageFile: hca_1.2.3.tar.gz PackageFileSize: 489.8 KiB