Package: hca Version: 1.2.3 Command: /Library/Frameworks/R.framework/Resources/bin/R CMD INSTALL hca StartedAt: 2022-04-12 03:56:36 -0400 (Tue, 12 Apr 2022) EndedAt: 2022-04-12 03:56:47 -0400 (Tue, 12 Apr 2022) EllapsedTime: 10.6 seconds RetCode: 0 Status: OK