Package: genomes Version: 3.24.0 Command: /home/biocbuild/bbs-3.14-bioc/R/bin/R CMD check --install=check:genomes.install-out.txt --library=/home/biocbuild/bbs-3.14-bioc/R/library --no-vignettes --timings genomes_3.24.0.tar.gz StartedAt: 2022-04-12 07:33:59 -0400 (Tue, 12 Apr 2022) EndedAt: 2022-04-12 07:34:20 -0400 (Tue, 12 Apr 2022) EllapsedTime: 21.6 seconds RetCode: 0 Status: OK CheckDir: genomes.Rcheck Warnings: 0