Package: flowAI Version: 1.24.0 Command: C:\cygwin\bin\curl.exe -O http://155.52.207.166/BBS/3.14/bioc/src/contrib/flowAI_1.24.0.tar.gz && rm -rf flowAI.buildbin-libdir && mkdir flowAI.buildbin-libdir && C:\Users\biocbuild\bbs-3.14-bioc\R\bin\R.exe CMD INSTALL --merge-multiarch --build --library=flowAI.buildbin-libdir flowAI_1.24.0.tar.gz && C:\Users\biocbuild\bbs-3.14-bioc\R\bin\R.exe CMD INSTALL flowAI_1.24.0.zip && rm flowAI_1.24.0.tar.gz flowAI_1.24.0.zip StartedAt: 2022-04-12 05:27:30 -0400 (Tue, 12 Apr 2022) EndedAt: 2022-04-12 05:28:29 -0400 (Tue, 12 Apr 2022) EllapsedTime: 58.4 seconds RetCode: 0 Status: OK