Welcome to mirrors.dotsrc.org

All our mirrors of open source software are available via http, https, ftp and an onion service. More information about our mirrors including statistics and contact information is available on our mirror info pages.

For information about dotsrc.org and our other services please go to our website.

Index of /bioconductor/checkResults/3.14/bioc-LATEST/fastLiquidAssociation/raw-results/machv2/

File Name  ↓ File Size  ↓ Date  ↓ 
--
297 B2022-04-13 16:07:59
470 B2022-04-13 16:07:59
506 B2022-04-13 16:07:59
614 B2022-04-13 16:07:59
935 B2022-04-13 16:07:59
1022 B2022-04-13 16:07:59
1.3 KiB2022-04-13 16:07:59
3.8 KiB2022-04-13 16:07:59