Package: eiR Version: 1.34.0 Command: chmod a+r eiR -R && C:\Users\biocbuild\bbs-3.14-bioc\R\bin\R.exe --arch x64 CMD build --keep-empty-dirs --no-resave-data eiR StartedAt: 2022-04-12 09:52:23 -0400 (Tue, 12 Apr 2022) EndedAt: 2022-04-12 09:57:32 -0400 (Tue, 12 Apr 2022) EllapsedTime: 308.7 seconds RetCode: 0 Status: OK PackageFile: eiR_1.34.0.tar.gz PackageFileSize: 658.5 KiB