Package: convert Version: 1.70.0 Command: /Library/Frameworks/R.framework/Resources/bin/R CMD INSTALL convert StartedAt: 2022-04-12 03:19:05 -0400 (Tue, 12 Apr 2022) EndedAt: 2022-04-12 03:19:15 -0400 (Tue, 12 Apr 2022) EllapsedTime: 9.3 seconds RetCode: 0 Status: OK