Package: bgx Version: 1.60.0 Command: rm -rf bgx.buildbin-libdir && mkdir bgx.buildbin-libdir && C:\Users\biocbuild\bbs-3.14-bioc\R\bin\R.exe CMD INSTALL --merge-multiarch --build --library=bgx.buildbin-libdir bgx_1.60.0.tar.gz StartedAt: 2022-04-13 05:40:43 -0400 (Wed, 13 Apr 2022) EndedAt: 2022-04-13 05:42:36 -0400 (Wed, 13 Apr 2022) EllapsedTime: 112.8 seconds RetCode: 0 Status: OK PackageFile: bgx_1.60.0.zip PackageFileSize: 948 KiB