Package: TRESS Version: 1.0.0 Command: /home/biocbuild/bbs-3.14-bioc/R/bin/R CMD build --keep-empty-dirs --no-resave-data TRESS StartedAt: 2022-04-12 06:08:42 -0400 (Tue, 12 Apr 2022) EndedAt: 2022-04-12 06:09:36 -0400 (Tue, 12 Apr 2022) EllapsedTime: 53.1 seconds RetCode: 0 Status: OK PackageFile: TRESS_1.0.0.tar.gz PackageFileSize: 868.7 KiB