Package: Sconify Version: 1.14.0 Command: /Library/Frameworks/R.framework/Resources/bin/R CMD check --install=check:Sconify.install-out.txt --library=/Library/Frameworks/R.framework/Resources/library --no-vignettes --timings Sconify_1.14.0.tar.gz StartedAt: 2022-04-12 18:14:08 -0400 (Tue, 12 Apr 2022) EndedAt: 2022-04-12 18:17:15 -0400 (Tue, 12 Apr 2022) EllapsedTime: 187.7 seconds RetCode: 0 Status: OK CheckDir: Sconify.Rcheck Warnings: 0