Package: RTNduals Version: 1.18.0 Command: chmod a+r RTNduals -R && C:\Users\biocbuild\bbs-3.14-bioc\R\bin\R.exe CMD build --keep-empty-dirs --no-resave-data RTNduals StartedAt: 2022-04-12 13:53:23 -0400 (Tue, 12 Apr 2022) EndedAt: 2022-04-12 13:55:04 -0400 (Tue, 12 Apr 2022) EllapsedTime: 101.0 seconds RetCode: 0 Status: OK PackageFile: RTNduals_1.18.0.tar.gz PackageFileSize: 584.2 KiB