Package: PhIPData Version: 1.2.0 Command: chmod a+r PhIPData -R && C:\Users\biocbuild\bbs-3.14-bioc\R\bin\R.exe CMD build --keep-empty-dirs --no-resave-data PhIPData StartedAt: 2022-04-12 13:03:51 -0400 (Tue, 12 Apr 2022) EndedAt: 2022-04-12 13:04:51 -0400 (Tue, 12 Apr 2022) EllapsedTime: 60.2 seconds RetCode: 0 Status: OK PackageFile: PhIPData_1.2.0.tar.gz PackageFileSize: 821.6 KiB