Package: MBAmethyl Version: 1.28.0 Command: /Library/Frameworks/R.framework/Resources/bin/R CMD INSTALL MBAmethyl StartedAt: 2022-04-12 03:17:22 -0400 (Tue, 12 Apr 2022) EndedAt: 2022-04-12 03:17:31 -0400 (Tue, 12 Apr 2022) EllapsedTime: 8.8 seconds RetCode: 0 Status: OK