Package: HPAanalyze Version: 1.12.0 Command: /home/biocbuild/bbs-3.14-bioc/R/bin/R CMD check --install=check:HPAanalyze.install-out.txt --library=/home/biocbuild/bbs-3.14-bioc/R/library --no-vignettes --timings HPAanalyze_1.12.0.tar.gz StartedAt: 2022-04-12 07:48:54 -0400 (Tue, 12 Apr 2022) EndedAt: 2022-04-12 07:50:03 -0400 (Tue, 12 Apr 2022) EllapsedTime: 69.6 seconds RetCode: 0 Status: OK CheckDir: HPAanalyze.Rcheck Warnings: 0