Package: HPAStainR Version: 1.4.1 Command: /Library/Frameworks/R.framework/Resources/bin/R CMD INSTALL HPAStainR StartedAt: 2022-04-12 03:56:53 -0400 (Tue, 12 Apr 2022) EndedAt: 2022-04-12 03:57:02 -0400 (Tue, 12 Apr 2022) EllapsedTime: 9.8 seconds RetCode: 0 Status: OK