Package: GSRI Version: 2.42.0 Command: chmod a+r GSRI -R && C:\Users\biocbuild\bbs-3.14-bioc\R\bin\R.exe CMD build --keep-empty-dirs --no-resave-data GSRI StartedAt: 2022-04-12 11:12:34 -0400 (Tue, 12 Apr 2022) EndedAt: 2022-04-12 11:14:13 -0400 (Tue, 12 Apr 2022) EllapsedTime: 99.2 seconds RetCode: 0 Status: OK PackageFile: GSRI_2.42.0.tar.gz PackageFileSize: 262.6 KiB