Package: GSRI Version: 2.42.0 Command: /Library/Frameworks/R.framework/Resources/bin/R CMD INSTALL GSRI StartedAt: 2022-04-12 03:45:13 -0400 (Tue, 12 Apr 2022) EndedAt: 2022-04-12 03:45:49 -0400 (Tue, 12 Apr 2022) EllapsedTime: 36.8 seconds RetCode: 0 Status: OK