Package: GSRI Version: 2.42.0 Command: /Library/Frameworks/R.framework/Resources/bin/R CMD build --keep-empty-dirs --no-resave-data GSRI StartedAt: 2022-04-12 06:29:02 -0400 (Tue, 12 Apr 2022) EndedAt: 2022-04-12 06:30:20 -0400 (Tue, 12 Apr 2022) EllapsedTime: 77.4 seconds RetCode: 0 Status: OK PackageFile: GSRI_2.42.0.tar.gz PackageFileSize: 275.7 KiB