Package: ERSSA Version: 1.12.0 Command: /home/biocbuild/bbs-3.14-bioc/R/bin/R CMD build --keep-empty-dirs --no-resave-data ERSSA StartedAt: 2022-04-12 04:29:38 -0400 (Tue, 12 Apr 2022) EndedAt: 2022-04-12 04:30:22 -0400 (Tue, 12 Apr 2022) EllapsedTime: 44.1 seconds RetCode: 0 Status: OK PackageFile: ERSSA_1.12.0.tar.gz PackageFileSize: 2.664 MiB