Package: ERSSA Version: 1.12.0 Command: /Library/Frameworks/R.framework/Resources/bin/R CMD INSTALL ERSSA StartedAt: 2022-04-12 03:48:54 -0400 (Tue, 12 Apr 2022) EndedAt: 2022-04-12 03:49:42 -0400 (Tue, 12 Apr 2022) EllapsedTime: 47.8 seconds RetCode: 0 Status: OK