Package: DynDoc Version: 1.72.0 Command: /home/biocbuild/bbs-3.14-bioc/R/bin/R CMD INSTALL DynDoc StartedAt: 2022-04-12 03:11:59 -0400 (Tue, 12 Apr 2022) EndedAt: 2022-04-12 03:12:09 -0400 (Tue, 12 Apr 2022) EllapsedTime: 10.0 seconds RetCode: 0 Status: OK