Package: DExMA Version: 1.2.1 Command: C:\Users\biocbuild\bbs-3.14-bioc\R\bin\R.exe CMD check --force-multiarch --install=check:DExMA.install-out.txt --library=C:\Users\biocbuild\bbs-3.14-bioc\R\library --no-vignettes --timings DExMA_1.2.1.tar.gz StartedAt: 2022-04-12 18:34:27 -0400 (Tue, 12 Apr 2022) EndedAt: 2022-04-12 18:38:27 -0400 (Tue, 12 Apr 2022) EllapsedTime: 240.2 seconds RetCode: 0 Status: OK CheckDir: DExMA.Rcheck Warnings: 0