Package: CytoDx Version: 1.14.0 Command: /Library/Frameworks/R.framework/Resources/bin/R CMD INSTALL CytoDx StartedAt: 2022-04-12 03:29:26 -0400 (Tue, 12 Apr 2022) EndedAt: 2022-04-12 03:29:46 -0400 (Tue, 12 Apr 2022) EllapsedTime: 20.1 seconds RetCode: 0 Status: OK