Package: CellNOptR Version: 1.40.0 Command: C:\Users\biocbuild\bbs-3.14-bioc\R\bin\R.exe CMD check --force-multiarch --install=check:CellNOptR.install-out.txt --library=C:\Users\biocbuild\bbs-3.14-bioc\R\library --no-vignettes --timings CellNOptR_1.40.0.tar.gz StartedAt: 2022-04-12 17:02:25 -0400 (Tue, 12 Apr 2022) EndedAt: 2022-04-12 17:06:34 -0400 (Tue, 12 Apr 2022) EllapsedTime: 249.0 seconds RetCode: 0 Status: OK CheckDir: CellNOptR.Rcheck Warnings: 0