Package: CancerInSilico Version: 2.14.0 Command: /Library/Frameworks/R.framework/Resources/bin/R CMD build --keep-empty-dirs --no-resave-data CancerInSilico StartedAt: 2022-04-12 05:04:24 -0400 (Tue, 12 Apr 2022) EndedAt: 2022-04-12 05:07:12 -0400 (Tue, 12 Apr 2022) EllapsedTime: 168.9 seconds RetCode: 0 Status: OK PackageFile: CancerInSilico_2.14.0.tar.gz PackageFileSize: 2.278 MiB