Package: AGDEX Version: 1.42.0 Command: rm -rf AGDEX.buildbin-libdir && mkdir AGDEX.buildbin-libdir && /Users/biocbuild/BBS/utils/build-universal.sh AGDEX_1.42.0.tar.gz /Library/Frameworks/R.framework/Resources/bin/R AGDEX.buildbin-libdir StartedAt: 2022-04-12 20:17:54 -0400 (Tue, 12 Apr 2022) EndedAt: 2022-04-12 20:18:24 -0400 (Tue, 12 Apr 2022) EllapsedTime: 29.2 seconds RetCode: 0 Status: OK PackageFile: AGDEX_1.42.0.tgz PackageFileSize: 603.9 KiB