Package: RnBeads.mm9 Version: 1.24.0 Command: /home/biocbuild/bbs-3.13-bioc/R/bin/R CMD build --keep-empty-dirs --no-resave-data RnBeads.mm9 StartedAt: 2021-10-16 12:30:34 -0400 (Sat, 16 Oct 2021) EndedAt: 2021-10-16 12:30:41 -0400 (Sat, 16 Oct 2021) EllapsedTime: 7.7 seconds RetCode: 0 Status: OK PackageFile: RnBeads.mm9_1.24.0.tar.gz PackageFileSize: 94.39 MiB