Package: xmapbridge Version: 1.50.0 Command: rm -rf xmapbridge.buildbin-libdir && mkdir xmapbridge.buildbin-libdir && /Users/biocbuild/BBS/utils/build-universal.sh xmapbridge_1.50.0.tar.gz /Library/Frameworks/R.framework/Versions/Current/Resources/bin/R xmapbridge.buildbin-libdir StartedAt: 2021-10-15 04:23:42 -0400 (Fri, 15 Oct 2021) EndedAt: 2021-10-15 04:24:45 -0400 (Fri, 15 Oct 2021) EllapsedTime: 63.9 seconds RetCode: 0 Status: OK PackageFile: xmapbridge_1.50.0.tgz PackageFileSize: 1.641 MiB