Package: wpm Version: 1.2.1 Command: /Library/Frameworks/R.framework/Versions/Current/Resources/bin/R CMD INSTALL wpm StartedAt: 2021-10-14 09:47:29 -0400 (Thu, 14 Oct 2021) EndedAt: 2021-10-14 09:48:22 -0400 (Thu, 14 Oct 2021) EllapsedTime: 52.9 seconds RetCode: 0 Status: OK