Package: wpm Version: 1.2.1 Command: /Library/Frameworks/R.framework/Versions/Current/Resources/bin/R CMD build --keep-empty-dirs --no-resave-data wpm StartedAt: 2021-10-14 15:39:46 -0400 (Thu, 14 Oct 2021) EndedAt: 2021-10-14 15:40:12 -0400 (Thu, 14 Oct 2021) EllapsedTime: 25.8 seconds RetCode: 0 Status: OK PackageFile: wpm_1.2.1.tar.gz PackageFileSize: 2.391 MiB