git_url: https://git.bioconductor.org/packages/wpm git_branch: RELEASE_3_13 git_last_commit: 4ce33a4 git_last_commit_date: 2021-06-15 07:53:24 -0400 (Tue, 15 Jun 2021) Package: wpm Version: 1.2.1 Maintainer: Helene Borges MaintainerEmail: borges.helene.sophie at gmail.com