Package: weitrix Version: 1.4.0 Command: chmod a+r weitrix -R && C:\Users\biocbuild\bbs-3.13-bioc\R\bin\R.exe CMD build --keep-empty-dirs --no-resave-data weitrix StartedAt: 2021-10-14 19:08:27 -0400 (Thu, 14 Oct 2021) EndedAt: 2021-10-14 19:18:53 -0400 (Thu, 14 Oct 2021) EllapsedTime: 625.9 seconds RetCode: 0 Status: OK PackageFile: weitrix_1.4.0.tar.gz PackageFileSize: 5.173 MiB