Package: vissE Version: 1.0.0 Command: C:\Users\biocbuild\bbs-3.13-bioc\R\bin\R.exe CMD check --force-multiarch --install=check:vissE.install-out.txt --library=C:\Users\biocbuild\bbs-3.13-bioc\R\library --no-vignettes --timings vissE_1.0.0.tar.gz StartedAt: 2021-10-15 07:13:19 -0400 (Fri, 15 Oct 2021) EndedAt: 2021-10-15 07:16:09 -0400 (Fri, 15 Oct 2021) EllapsedTime: 170.5 seconds RetCode: 0 Status: OK CheckDir: vissE.Rcheck Warnings: 0