Package: treeio Version: 1.16.2 Command: rm -rf treeio.buildbin-libdir && mkdir treeio.buildbin-libdir && C:\Users\biocbuild\bbs-3.13-bioc\R\bin\R.exe CMD INSTALL --merge-multiarch --build --library=treeio.buildbin-libdir treeio_1.16.2.tar.gz StartedAt: 2021-10-15 12:16:36 -0400 (Fri, 15 Oct 2021) EndedAt: 2021-10-15 12:18:09 -0400 (Fri, 15 Oct 2021) EllapsedTime: 92.9 seconds RetCode: 0 Status: OK PackageFile: treeio_1.16.2.zip PackageFileSize: 915 KiB