Package: tomoda Version: 1.2.0 Command: /Library/Frameworks/R.framework/Versions/Current/Resources/bin/R CMD build --keep-empty-dirs --no-resave-data tomoda StartedAt: 2021-10-14 15:22:21 -0400 (Thu, 14 Oct 2021) EndedAt: 2021-10-14 15:24:01 -0400 (Thu, 14 Oct 2021) EllapsedTime: 99.1 seconds RetCode: 0 Status: OK PackageFile: tomoda_1.2.0.tar.gz PackageFileSize: 2.554 MiB