Package: tRanslatome Version: 1.30.0 Command: C:\Users\biocbuild\bbs-3.13-bioc\R\bin\R.exe CMD check --force-multiarch --install=check:tRanslatome.install-out.txt --library=C:\Users\biocbuild\bbs-3.13-bioc\R\library --no-vignettes --timings tRanslatome_1.30.0.tar.gz StartedAt: 2021-10-15 06:51:45 -0400 (Fri, 15 Oct 2021) EndedAt: 2021-10-15 06:58:58 -0400 (Fri, 15 Oct 2021) EllapsedTime: 433.2 seconds RetCode: 0 Status: WARNINGS CheckDir: tRanslatome.Rcheck Warnings: 2