Package: tRanslatome Version: 1.30.0 Command: chmod a+r tRanslatome -R && C:\Users\biocbuild\bbs-3.13-bioc\R\bin\R.exe CMD build --keep-empty-dirs --no-resave-data tRanslatome StartedAt: 2021-10-14 18:52:48 -0400 (Thu, 14 Oct 2021) EndedAt: 2021-10-14 18:55:08 -0400 (Thu, 14 Oct 2021) EllapsedTime: 139.7 seconds RetCode: 0 Status: OK PackageFile: tRanslatome_1.30.0.tar.gz PackageFileSize: 822.5 KiB